BEGIN:VCALENDAR
VERSION:2.0
PRODID:-//NCURA Region V - ECPv6.15.20//NONSGML v1.0//EN
CALSCALE:GREGORIAN
METHOD:PUBLISH
X-ORIGINAL-URL:https://www.ncuraregionv.com
X-WR-CALDESC:Events for NCURA Region V
REFRESH-INTERVAL;VALUE=DURATION:PT1H
X-Robots-Tag:noindex
X-PUBLISHED-TTL:PT1H
BEGIN:VTIMEZONE
TZID:UTC
BEGIN:STANDARD
TZOFFSETFROM:+0000
TZOFFSETTO:+0000
TZNAME:UTC
DTSTART:20250101T000000
END:STANDARD
END:VTIMEZONE
BEGIN:VEVENT
DTSTART;TZID=UTC:20260610T120000
DTEND;TZID=UTC:20260610T130000
DTSTAMP:20260423T194815
CREATED:20260423T144745Z
LAST-MODIFIED:20260423T145005Z
UID:6726-1781092800-1781096400@www.ncuraregionv.com
SUMMARY:Creating Stability\, Consistency & Strong Relationships through Effective Post Award Management
DESCRIPTION:NCURA Region V is pleased to announce the upcoming Region V Roundup topic: Creating Stability\, Consistency &amp; Strong Relationships through Effective Post Award Management. The virtual session will be held on Wednesday\, June 10th\, 2026\, from 12:00pm to 1:00pm\, Central Time. Providing the presentation is Saira Valley – Principal Consultant\, Valley Consulting Group\, LLC. \nPlease complete and submit the registration form by Monday\, June 8th\, 2026. A confirmation email will be sent with the Zoom link by Tuesday\, June 9th. Please note: the registrant’s first and last name must match the Zoom profile first and last name\, which will allow admittance to NCURA Region V’s Roundup session. \nDescription: This presentation is to demonstrate why routine grant reconciliations are one of the most important elements of strong\, pro-active post-award management. Recons help you stay ahead of problems instead of constantly reacting to them\, and they give you the visibility you need to prevent deficits\, support compliance\, answer sponsor questions\, and build trust with your PIs. We will also talk about the reality that the biggest barriers – too many responsibilities\, constant interruptions\, and not enough time—are exactly why good systems matter. When you create\nroutines\, use templates\, document well\, and build tools that help you catch issues early\, you create more stability\, more consistency\, and stronger working relationships. \nREGISTER: https://docs.google.com/forms/d/e/1FAIpQLScSfiOit8hONk3uPDXJEa4XhHZYalF-fHcpGacEcacV3iOn3g/viewform
URL:https://www.ncuraregionv.com/event/creating-stability-consistency-strong-relationships-through-effective-post-award-management/
CATEGORIES:Region V Roundup
END:VEVENT
END:VCALENDAR